BEGIN:VCALENDAR
VERSION:2.0
PRODID:-//ChamberMaster//Event Calendar 2.0//EN
METHOD:PUBLISH
X-PUBLISHED-TTL:P3D
REFRESH-INTERVAL:P3D
CALSCALE:GREGORIAN
BEGIN:VEVENT
DTSTART:20230930T213000Z
DTEND:20231001T030000Z
X-MICROSOFT-CDO-ALLDAYEVENT:FALSE
SUMMARY:Women Mean Business: Awards Gala & Marketplace
DESCRIPTION:Join hundreds of entrepreneurs\, supporters\, and community leaders committed to supporting business owners and: Shop 40 small businesses in our Marketplace Give to support WomenVenture's mission to empower women to achieve their economic goals by building profitable and sustainable businesses that transform communities Cheer on our award winners Social Entrepreneur Award: Carley Kammerer\, Wildflyer Coffee Resilience Award: Vanessa Drews\, Cheesecake Funk Expanding Business Award: Jenifer Bellefleur & Kelsey Lee Karol\, New Gild Jewelers Dance the night away Here is the schedule for the evening: 4:30 PM   6:30 PM: Marketplace   Free and open to the public to shop\, shop\, shop! 6:30 PM   8:00 PM: Awards & Fundraising Gala   Ticketed guests only Emcee\, Jasmine Brett Stringer Music by Ashley DuBose 8:00 PM   9:30 PM: Dance Party & Marketplace 10:00 PM: Evening ends
X-ALT-DESC;FMTTYPE=text/html:Join hundreds of entrepreneurs\, supporters\, and community leaders committed to supporting business owners and: Shop 40 small businesses in our Marketplace Give to support WomenVenture&rsquo\;s mission to empower women to achieve their economic goals by building profitable and sustainable businesses that transform communities Cheer on our award winners Social Entrepreneur Award: Carley Kammerer\, Wildflyer Coffee Resilience Award: Vanessa Drews\, Cheesecake Funk Expanding Business Award: Jenifer Bellefleur &amp\; Kelsey Lee Karol\, New Gild Jewelers Dance the night away Here is the schedule for the evening: 4:30 PM &ndash\; 6:30 PM: Marketplace &ndash\; Free and open to the public to shop\, shop\, shop! 6:30 PM &ndash\; 8:00 PM: Awards &amp\; Fundraising Gala &ndash\; Ticketed guests only Emcee\, Jasmine Brett Stringer Music by Ashley DuBose 8:00 PM &ndash\; 9:30 PM: Dance Party &amp\; Marketplace 10:00 PM: Evening ends
LOCATION:Union Depot St. Paul
UID:e.1132.338019
SEQUENCE:3
DTSTAMP:20260420T151437Z
URL:https://business.midwaychamber.com/events/details/women-mean-business-awards-gala-marketplace-338019
END:VEVENT

END:VCALENDAR
