BEGIN:VCALENDAR
VERSION:2.0
PRODID:-//ChamberMaster//Event Calendar 2.0//EN
METHOD:PUBLISH
X-PUBLISHED-TTL:P3D
REFRESH-INTERVAL:P3D
CALSCALE:GREGORIAN
BEGIN:VEVENT
DTSTART:20241016T163000Z
DTEND:20241016T180000Z
X-MICROSOFT-CDO-ALLDAYEVENT:FALSE
SUMMARY:Monthly Member Luncheon
DESCRIPTION:Monthly Midway Member Luncheons occur the 3rd Wednesday of the month from 11:30am to 1:00 pm. The event fee covers the content/speaker along with a catered luncheon. Event dates and times are subject to change\, please check back periodically and refer to the weekly newesletter for the latest up to date info.
X-ALT-DESC;FMTTYPE=text/html:Monthly Midway Member Luncheons occur&nbsp\;the 3rd Wednesday of the month from 11:30am to 1:00 pm.&nbsp\;The event fee covers the content/speaker along with a catered luncheon. Event dates and times are subject to change\, please check back periodically and refer to the weekly newesletter for the latest up to date info.<br />\n<br />\n&nbsp\;
LOCATION:Como Park Zoo & Conservatory 1225 Estabrook Dr St Paul\, MN 55103
UID:e.1132.338081
SEQUENCE:3
DTSTAMP:20260421T152358Z
URL:https://business.midwaychamber.com/events/details/monthly-member-luncheon-338081
END:VEVENT

END:VCALENDAR
