BEGIN:VCALENDAR
VERSION:2.0
PRODID:-//ChamberMaster//Event Calendar 2.0//EN
METHOD:PUBLISH
X-PUBLISHED-TTL:P3D
REFRESH-INTERVAL:P3D
CALSCALE:GREGORIAN
BEGIN:VEVENT
DTSTART:20240131T173000Z
DTEND:20240131T190000Z
X-MICROSOFT-CDO-ALLDAYEVENT:FALSE
SUMMARY:DEED Commissioner Matt Varilek
DESCRIPTION:DEED Commissioner Matt Varilek\n\n\n\nWhat does the outlook look like for businesses in Minnesota in 2024? What programs are available from the State which can help our businesses in the Midway? Join us on January 31 as we hear from DEED Commissioner Matt Varilek. \n\n\n\nAbout Commissioner Varilek\n\n\n\nMatt Varilek became DEED Commissioner on June 30\, 2023. Since 2016\, he served as President of the Little Falls-based Initiative Foundation\, which supports economic and community development in the 14 counties and two sovereign tribal nations of Central Minnesota. Previously\, he was Chief Operating Officer for the U.S. Small Business Administration (SBA)\, regional administrator for U.S. SBA Region VIII\, and a candidate for Congress in South Dakota. He also served as an Economic Development Director and Speechwriter for the offices of U.S. Senators Tom Daschle and Tim Johnson\, and Director of Policy and Research for Natsource LLC\, an energy brokerage based in New York. Commissioner Varilek earned a B.A. from Carleton College\, a M.Phil in Economic Development from the University of Glasgow\, and a M.Phil. in Environment and Development from the University of Cambridge.
X-ALT-DESC;FMTTYPE=text/html:<div style="text-align: center\;"><span style="font-size: 16px\;"><b>DEED Commissioner Matt Varilek</b></span></div>\n\n<div><br />\nWhat does the outlook look like for businesses in Minnesota in 2024? What programs are available from the State which can help our businesses in the Midway? Join us on January 31 as we hear from DEED Commissioner Matt Varilek.&nbsp\;<br />\n<br />\nAbout Commissioner Varilek<br />\n<br />\nMatt Varilek became DEED Commissioner on June 30\, 2023. Since 2016\, he served as President of the Little Falls-based Initiative Foundation\, which supports economic and community development in the 14 counties and two sovereign tribal nations of Central Minnesota. Previously\, he was Chief Operating Officer for the U.S. Small Business Administration (SBA)\, regional administrator for U.S. SBA Region VIII\, and a candidate for Congress in South Dakota. He also served as an Economic Development Director and Speechwriter for the offices of U.S. Senators Tom Daschle and Tim Johnson\, and Director of Policy and Research for Natsource LLC\, an energy brokerage based in New York. Commissioner Varilek earned a B.A. from Carleton College\, a M.Phil in Economic Development from the University of Glasgow\, and a M.Phil. in Environment and Development from the University of Cambridge.&nbsp\;<br />\n<br />\n&nbsp\;</div>\n<br />\n&nbsp\;
LOCATION:Delta Hotels by Marriott | Minneapolis Northeast 1330 Industrial Boulevard NE Minneapolis\, MN 55413
UID:e.1132.338056
SEQUENCE:3
DTSTAMP:20260420T195031Z
URL:https://business.midwaychamber.com/events/details/deed-commissioner-matt-varilek-338056
END:VEVENT

END:VCALENDAR
